BEGIN:VCALENDAR
VERSION:2.0
PRODID:-//Immaculate Conception Academy - ECPv6.15.20//NONSGML v1.0//EN
CALSCALE:GREGORIAN
METHOD:PUBLISH
X-ORIGINAL-URL:https://icaberks.org
X-WR-CALDESC:Events for Immaculate Conception Academy
REFRESH-INTERVAL;VALUE=DURATION:PT1H
X-Robots-Tag:noindex
X-PUBLISHED-TTL:PT1H
BEGIN:VTIMEZONE
TZID:America/New_York
BEGIN:DAYLIGHT
TZOFFSETFROM:-0500
TZOFFSETTO:-0400
TZNAME:EDT
DTSTART:20210314T070000
END:DAYLIGHT
BEGIN:STANDARD
TZOFFSETFROM:-0400
TZOFFSETTO:-0500
TZNAME:EST
DTSTART:20211107T060000
END:STANDARD
BEGIN:DAYLIGHT
TZOFFSETFROM:-0500
TZOFFSETTO:-0400
TZNAME:EDT
DTSTART:20220313T070000
END:DAYLIGHT
BEGIN:STANDARD
TZOFFSETFROM:-0400
TZOFFSETTO:-0500
TZNAME:EST
DTSTART:20221106T060000
END:STANDARD
BEGIN:DAYLIGHT
TZOFFSETFROM:-0500
TZOFFSETTO:-0400
TZNAME:EDT
DTSTART:20230312T070000
END:DAYLIGHT
BEGIN:STANDARD
TZOFFSETFROM:-0400
TZOFFSETTO:-0500
TZNAME:EST
DTSTART:20231105T060000
END:STANDARD
BEGIN:DAYLIGHT
TZOFFSETFROM:-0500
TZOFFSETTO:-0400
TZNAME:EDT
DTSTART:20240310T070000
END:DAYLIGHT
BEGIN:STANDARD
TZOFFSETFROM:-0400
TZOFFSETTO:-0500
TZNAME:EST
DTSTART:20241103T060000
END:STANDARD
END:VTIMEZONE
BEGIN:VEVENT
DTSTART;TZID=America/New_York:20230331T130000
DTEND;TZID=America/New_York:20230331T140000
DTSTAMP:20260421T175245
CREATED:20230316T234533Z
LAST-MODIFIED:20230316T234533Z
UID:10000222-1680267600-1680271200@icaberks.org
SUMMARY:The Living Stations of the Cross
DESCRIPTION:The Living Stations of the Cross
URL:https://icaberks.org/events-calendar/the-living-stations-of-the-cross-3/
LOCATION:ICC\, 905 Chestnut Street\, Douglassville\, PA\, 19518\, United States
ATTACH;FMTTYPE=image/jpeg:https://icaberks.org/wp-content/uploads/2023/03/Living-Stations.jpg
END:VEVENT
BEGIN:VEVENT
DTSTART;TZID=America/New_York:20230331T130000
DTEND;TZID=America/New_York:20230331T140000
DTSTAMP:20260421T175245
CREATED:20230316T234533Z
LAST-MODIFIED:20230316T234533Z
UID:10000073-1680267600-1680271200@icaberks.org
SUMMARY:The Living Stations of the Cross
DESCRIPTION:The Living Stations of the Cross
URL:https://icaberks.org/events-calendar/the-living-stations-of-the-cross/
LOCATION:ICC\, 905 Chestnut Street\, Douglassville\, PA\, 19518\, United States
ATTACH;FMTTYPE=image/jpeg:https://icaberks.org/wp-content/uploads/2023/03/Living-Stations.jpg
END:VEVENT
BEGIN:VEVENT
DTSTART;TZID=America/New_York:20221208T090000
DTEND;TZID=America/New_York:20221208T100000
DTSTAMP:20260421T175245
CREATED:20221115T163446Z
LAST-MODIFIED:20221115T163446Z
UID:10000164-1670490000-1670493600@icaberks.org
SUMMARY:Mass
DESCRIPTION:Catholic Mass
URL:https://icaberks.org/events-calendar/mass-4-2/
LOCATION:ICC\, 905 Chestnut Street\, Douglassville\, PA\, 19518\, United States
ATTACH;FMTTYPE=image/jpeg:https://icaberks.org/wp-content/uploads/2022/08/Mass-1.jpg
END:VEVENT
BEGIN:VEVENT
DTSTART;TZID=America/New_York:20221208T090000
DTEND;TZID=America/New_York:20221208T100000
DTSTAMP:20260421T175245
CREATED:20221115T163446Z
LAST-MODIFIED:20221115T163446Z
UID:10000016-1670490000-1670493600@icaberks.org
SUMMARY:Mass
DESCRIPTION:Catholic Mass
URL:https://icaberks.org/events-calendar/mass-4/
LOCATION:ICC\, 905 Chestnut Street\, Douglassville\, PA\, 19518\, United States
ATTACH;FMTTYPE=image/jpeg:https://icaberks.org/wp-content/uploads/2022/08/Mass-1.jpg
END:VEVENT
BEGIN:VEVENT
DTSTART;TZID=America/New_York:20221118T090000
DTEND;TZID=America/New_York:20221118T100000
DTSTAMP:20260421T175245
CREATED:20221115T155104Z
LAST-MODIFIED:20221115T155104Z
UID:10000004-1668762000-1668765600@icaberks.org
SUMMARY:Mass
DESCRIPTION:Student and Staff Mass
URL:https://icaberks.org/events-calendar/mass-2/
LOCATION:ICC\, 905 Chestnut Street\, Douglassville\, PA\, 19518\, United States
ATTACH;FMTTYPE=image/jpeg:https://icaberks.org/wp-content/uploads/2022/08/Mass-1.jpg
END:VEVENT
BEGIN:VEVENT
DTSTART;TZID=America/New_York:20221118T090000
DTEND;TZID=America/New_York:20221118T100000
DTSTAMP:20260421T175245
CREATED:20221115T155104Z
LAST-MODIFIED:20221115T155104Z
UID:10000153-1668762000-1668765600@icaberks.org
SUMMARY:Mass
DESCRIPTION:Student and Staff Mass
URL:https://icaberks.org/events-calendar/mass-2-2/
LOCATION:ICC\, 905 Chestnut Street\, Douglassville\, PA\, 19518\, United States
ATTACH;FMTTYPE=image/jpeg:https://icaberks.org/wp-content/uploads/2022/08/Mass-1.jpg
END:VEVENT
END:VCALENDAR