BEGIN:VCALENDAR
VERSION:2.0
PRODID:-//Immaculate Conception Academy - ECPv6.15.20//NONSGML v1.0//EN
CALSCALE:GREGORIAN
METHOD:PUBLISH
X-WR-CALNAME:Immaculate Conception Academy
X-ORIGINAL-URL:https://icaberks.org
X-WR-CALDESC:Events for Immaculate Conception Academy
REFRESH-INTERVAL;VALUE=DURATION:PT1H
X-Robots-Tag:noindex
X-PUBLISHED-TTL:PT1H
BEGIN:VTIMEZONE
TZID:America/New_York
BEGIN:DAYLIGHT
TZOFFSETFROM:-0500
TZOFFSETTO:-0400
TZNAME:EDT
DTSTART:20220313T070000
END:DAYLIGHT
BEGIN:STANDARD
TZOFFSETFROM:-0400
TZOFFSETTO:-0500
TZNAME:EST
DTSTART:20221106T060000
END:STANDARD
BEGIN:DAYLIGHT
TZOFFSETFROM:-0500
TZOFFSETTO:-0400
TZNAME:EDT
DTSTART:20230312T070000
END:DAYLIGHT
BEGIN:STANDARD
TZOFFSETFROM:-0400
TZOFFSETTO:-0500
TZNAME:EST
DTSTART:20231105T060000
END:STANDARD
BEGIN:DAYLIGHT
TZOFFSETFROM:-0500
TZOFFSETTO:-0400
TZNAME:EDT
DTSTART:20240310T070000
END:DAYLIGHT
BEGIN:STANDARD
TZOFFSETFROM:-0400
TZOFFSETTO:-0500
TZNAME:EST
DTSTART:20241103T060000
END:STANDARD
BEGIN:DAYLIGHT
TZOFFSETFROM:-0500
TZOFFSETTO:-0400
TZNAME:EDT
DTSTART:20250309T070000
END:DAYLIGHT
BEGIN:STANDARD
TZOFFSETFROM:-0400
TZOFFSETTO:-0500
TZNAME:EST
DTSTART:20251102T060000
END:STANDARD
END:VTIMEZONE
BEGIN:VEVENT
DTSTART;TZID=America/New_York:20241208T090000
DTEND;TZID=America/New_York:20241208T110000
DTSTAMP:20260421T084737
CREATED:20240909T145336Z
LAST-MODIFIED:20240909T145336Z
UID:10000639-1733648400-1733655600@icaberks.org
SUMMARY:ICA Family Mass & Social Sunday
DESCRIPTION:ICA Family Mass & Social Sunday
URL:https://icaberks.org/events-calendar/ica-family-mass-social-sunday-3/
LOCATION:ICC\, 905 Chestnut Street\, Douglassville\, PA\, 19518\, United States
END:VEVENT
BEGIN:VEVENT
DTSTART;TZID=America/New_York:20241207T080000
DTEND;TZID=America/New_York:20241207T120000
DTSTAMP:20260421T084737
CREATED:20241201T163939Z
LAST-MODIFIED:20241201T163939Z
UID:10000653-1733558400-1733572800@icaberks.org
SUMMARY:Santa Breakfast - Ticketed Event
DESCRIPTION:Santa Breakfast – Tickets Required\, Event Sold Out
URL:https://icaberks.org/events-calendar/santa-breakfast-ticketed-event/
LOCATION:ICC\, 905 Chestnut Street\, Douglassville\, PA\, 19518\, United States
END:VEVENT
BEGIN:VEVENT
DTSTART;TZID=America/New_York:20241110T090000
DTEND;TZID=America/New_York:20241110T110000
DTSTAMP:20260421T084737
CREATED:20240909T145246Z
LAST-MODIFIED:20240909T145246Z
UID:10000638-1731229200-1731236400@icaberks.org
SUMMARY:ICA Family Mass & Social Sunday
DESCRIPTION:ICA Family Mass & Social Sunday
URL:https://icaberks.org/events-calendar/ica-family-mass-social-sunday-2/
LOCATION:ICC\, 905 Chestnut Street\, Douglassville\, PA\, 19518\, United States
END:VEVENT
BEGIN:VEVENT
DTSTART;TZID=America/New_York:20241013T090000
DTEND;TZID=America/New_York:20241013T110000
DTSTAMP:20260421T084737
CREATED:20240909T145157Z
LAST-MODIFIED:20240909T145157Z
UID:10000637-1728810000-1728817200@icaberks.org
SUMMARY:ICA Family Mass & Social Sunday
DESCRIPTION:ICA Family Mass & Social Sunday
URL:https://icaberks.org/events-calendar/ica-family-mass-social-sunday/
LOCATION:ICC\, 905 Chestnut Street\, Douglassville\, PA\, 19518\, United States
END:VEVENT
BEGIN:VEVENT
DTSTART;TZID=America/New_York:20241008T163000
DTEND;TZID=America/New_York:20241008T180000
DTSTAMP:20260421T084737
CREATED:20240605T155909Z
LAST-MODIFIED:20240605T160424Z
UID:10000586-1728405000-1728410400@icaberks.org
SUMMARY:Confirmation
DESCRIPTION:Confirmation
URL:https://icaberks.org/events-calendar/confirmation/
LOCATION:ICC\, 905 Chestnut Street\, Douglassville\, PA\, 19518\, United States
END:VEVENT
BEGIN:VEVENT
DTSTART;TZID=America/New_York:20240825T090000
DTEND;TZID=America/New_York:20240825T100000
DTSTAMP:20260421T084737
CREATED:20240808T185426Z
LAST-MODIFIED:20240808T185426Z
UID:10000619-1724576400-1724580000@icaberks.org
SUMMARY:Blessing of the Backpacks
DESCRIPTION:Blessing of the Backpacks \nBlessing of the Backpacks will take place on Sunday\, August 25th at the 9 a.m. Mass\n\nAll students are welcome to bring their school backpacks to Mass to receive this blessing for a successful and rewarding school year.
URL:https://icaberks.org/events-calendar/blessing-of-the-backpacks-3/
LOCATION:ICC\, 905 Chestnut Street\, Douglassville\, PA\, 19518\, United States
END:VEVENT
BEGIN:VEVENT
DTSTART;TZID=America/New_York:20240531T190000
DTEND;TZID=America/New_York:20240531T200000
DTSTAMP:20260421T084737
CREATED:20240510T165553Z
LAST-MODIFIED:20240510T165601Z
UID:10000332-1717182000-1717185600@icaberks.org
SUMMARY:8th Grade Graduation
DESCRIPTION:8th Grade Graduation
URL:https://icaberks.org/events-calendar/8th-grade-graduation/
LOCATION:ICC\, 905 Chestnut Street\, Douglassville\, PA\, 19518\, United States
END:VEVENT
BEGIN:VEVENT
DTSTART;TZID=America/New_York:20240511T120000
DTEND;TZID=America/New_York:20240511T130000
DTSTAMP:20260421T084737
CREATED:20240213T164351Z
LAST-MODIFIED:20240213T164351Z
UID:10000317-1715428800-1715432400@icaberks.org
SUMMARY:First Holy Communion
DESCRIPTION:First Holy Communion
URL:https://icaberks.org/events-calendar/first-holy-communion-2-2/
LOCATION:ICC\, 905 Chestnut Street\, Douglassville\, PA\, 19518\, United States
END:VEVENT
BEGIN:VEVENT
DTSTART;TZID=America/New_York:20240510T084500
DTEND;TZID=America/New_York:20240510T110000
DTSTAMP:20260421T084737
CREATED:20240227T181039Z
LAST-MODIFIED:20240227T181039Z
UID:10000322-1715330700-1715338800@icaberks.org
SUMMARY:Second Grade Retreat
DESCRIPTION:Class retreat will be on Friday\, May 10th from 8:45 – 11am with dismissal from church.
URL:https://icaberks.org/events-calendar/second-grade-retreat/
LOCATION:ICC\, 905 Chestnut Street\, Douglassville\, PA\, 19518\, United States
END:VEVENT
BEGIN:VEVENT
DTSTART;TZID=America/New_York:20240506T170000
DTEND;TZID=America/New_York:20240506T180000
DTSTAMP:20260421T084737
CREATED:20240213T164240Z
LAST-MODIFIED:20240213T164240Z
UID:10000316-1715014800-1715018400@icaberks.org
SUMMARY:Communion Practice and Pictures
DESCRIPTION:Communion Practice and Pictures
URL:https://icaberks.org/events-calendar/communion-practice-and-pictures/
LOCATION:ICC\, 905 Chestnut Street\, Douglassville\, PA\, 19518\, United States
END:VEVENT
BEGIN:VEVENT
DTSTART;TZID=America/New_York:20240414T090000
DTEND;TZID=America/New_York:20240414T100000
DTSTAMP:20260421T084737
CREATED:20240213T163422Z
LAST-MODIFIED:20240213T163422Z
UID:10000313-1713085200-1713088800@icaberks.org
SUMMARY:ICA Family Sunday Mass
DESCRIPTION:ICA Family Sunday Mass
URL:https://icaberks.org/events-calendar/ica-family-sunday-mass-2/
LOCATION:ICC\, 905 Chestnut Street\, Douglassville\, PA\, 19518\, United States
END:VEVENT
BEGIN:VEVENT
DTSTART;TZID=America/New_York:20240310T090000
DTEND;TZID=America/New_York:20240310T100000
DTSTAMP:20260421T084737
CREATED:20240213T162445Z
LAST-MODIFIED:20240213T162445Z
UID:10000310-1710061200-1710064800@icaberks.org
SUMMARY:ICA Family Sunday Mass
DESCRIPTION:ICA Family Sunday Mass
URL:https://icaberks.org/events-calendar/ica-family-sunday-mass/
LOCATION:ICC\, 905 Chestnut Street\, Douglassville\, PA\, 19518\, United States
END:VEVENT
BEGIN:VEVENT
DTSTART;TZID=America/New_York:20240309T100000
DTEND;TZID=America/New_York:20240309T110000
DTSTAMP:20260421T084737
CREATED:20240213T162319Z
LAST-MODIFIED:20240213T162319Z
UID:10000309-1709978400-1709982000@icaberks.org
SUMMARY:First Penance
DESCRIPTION:First Penance
URL:https://icaberks.org/events-calendar/first-penance-2-2/
LOCATION:ICC\, 905 Chestnut Street\, Douglassville\, PA\, 19518\, United States
END:VEVENT
BEGIN:VEVENT
DTSTART;TZID=America/New_York:20240206T090000
DTEND;TZID=America/New_York:20240206T100000
DTSTAMP:20260421T084737
CREATED:20240206T203425Z
LAST-MODIFIED:20240206T203425Z
UID:10000295-1707210000-1707213600@icaberks.org
SUMMARY:ICA Family Mass
DESCRIPTION:ICA Family Mass with Social Sunday Reception to follow in the Social Hall.
URL:https://icaberks.org/events-calendar/ica-family-mass-2/
LOCATION:ICC\, 905 Chestnut Street\, Douglassville\, PA\, 19518\, United States
ATTACH;FMTTYPE=image/png:https://icaberks.org/wp-content/uploads/2024/01/Copy-of-Family-Mass-1.png
END:VEVENT
BEGIN:VEVENT
DTSTART;TZID=America/New_York:20231028T160000
DTEND;TZID=America/New_York:20231028T180000
DTSTAMP:20260421T084737
CREATED:20230919T130937Z
LAST-MODIFIED:20230919T130937Z
UID:10000144-1698508800-1698516000@icaberks.org
SUMMARY:Trunk or Treat & Winter Uniform Exchange
DESCRIPTION:Trunk or Treat & Winter Uniform Exchange
URL:https://icaberks.org/events-calendar/trunk-or-treat-winter-uniform-exchange/
LOCATION:ICC\, 905 Chestnut Street\, Douglassville\, PA\, 19518\, United States
ATTACH;FMTTYPE=image/png:https://icaberks.org/wp-content/uploads/2023/09/Trunk-or-Treat.png
END:VEVENT
BEGIN:VEVENT
DTSTART;TZID=America/New_York:20231028T160000
DTEND;TZID=America/New_York:20231028T180000
DTSTAMP:20260421T084737
CREATED:20230919T130937Z
LAST-MODIFIED:20230919T130937Z
UID:10000288-1698508800-1698516000@icaberks.org
SUMMARY:Trunk or Treat & Winter Uniform Exchange
DESCRIPTION:Trunk or Treat & Winter Uniform Exchange
URL:https://icaberks.org/events-calendar/trunk-or-treat-winter-uniform-exchange-2/
LOCATION:ICC\, 905 Chestnut Street\, Douglassville\, PA\, 19518\, United States
ATTACH;FMTTYPE=image/png:https://icaberks.org/wp-content/uploads/2023/09/Trunk-or-Treat.png
END:VEVENT
BEGIN:VEVENT
DTSTART;TZID=America/New_York:20231010T163000
DTEND;TZID=America/New_York:20231010T183000
DTSTAMP:20260421T084737
CREATED:20230711T170042Z
LAST-MODIFIED:20230711T170042Z
UID:10000244-1696955400-1696962600@icaberks.org
SUMMARY:The Sacrament of Confirmation
DESCRIPTION:
URL:https://icaberks.org/events-calendar/the-sacrament-of-confirmation-2/
LOCATION:ICC\, 905 Chestnut Street\, Douglassville\, PA\, 19518\, United States
ATTACH;FMTTYPE=image/png:https://icaberks.org/wp-content/uploads/2023/07/Sacramentof-Confirmation-retreat.png
END:VEVENT
BEGIN:VEVENT
DTSTART;TZID=America/New_York:20231010T163000
DTEND;TZID=America/New_York:20231010T183000
DTSTAMP:20260421T084737
CREATED:20230711T170042Z
LAST-MODIFIED:20230711T170042Z
UID:10000097-1696955400-1696962600@icaberks.org
SUMMARY:The Sacrament of Confirmation
DESCRIPTION:
URL:https://icaberks.org/events-calendar/the-sacrament-of-confirmation/
LOCATION:ICC\, 905 Chestnut Street\, Douglassville\, PA\, 19518\, United States
ATTACH;FMTTYPE=image/png:https://icaberks.org/wp-content/uploads/2023/07/Sacramentof-Confirmation-retreat.png
END:VEVENT
BEGIN:VEVENT
DTSTART;TZID=America/New_York:20230922T090000
DTEND;TZID=America/New_York:20230922T100000
DTSTAMP:20260421T084737
CREATED:20230917T153041Z
LAST-MODIFIED:20230917T153041Z
UID:10000287-1695373200-1695376800@icaberks.org
SUMMARY:School Mass
DESCRIPTION:School Mass
URL:https://icaberks.org/events-calendar/school-mass-2/
LOCATION:ICC\, 905 Chestnut Street\, Douglassville\, PA\, 19518\, United States
ATTACH;FMTTYPE=image/jpeg:https://icaberks.org/wp-content/uploads/2022/08/Mass-1.jpg
END:VEVENT
BEGIN:VEVENT
DTSTART;TZID=America/New_York:20230922T090000
DTEND;TZID=America/New_York:20230922T100000
DTSTAMP:20260421T084737
CREATED:20230917T153041Z
LAST-MODIFIED:20230917T153041Z
UID:10000143-1695373200-1695376800@icaberks.org
SUMMARY:School Mass
DESCRIPTION:School Mass
URL:https://icaberks.org/events-calendar/school-mass/
LOCATION:ICC\, 905 Chestnut Street\, Douglassville\, PA\, 19518\, United States
ATTACH;FMTTYPE=image/jpeg:https://icaberks.org/wp-content/uploads/2022/08/Mass-1.jpg
END:VEVENT
BEGIN:VEVENT
DTSTART;TZID=America/New_York:20230916T171500
DTEND;TZID=America/New_York:20230916T210000
DTSTAMP:20260421T084737
CREATED:20230711T165644Z
LAST-MODIFIED:20230711T165644Z
UID:10000096-1694884500-1694898000@icaberks.org
SUMMARY:Confirmation Retreat
DESCRIPTION:Confirmation Retreat
URL:https://icaberks.org/events-calendar/confirmation-retreat/
LOCATION:ICC\, 905 Chestnut Street\, Douglassville\, PA\, 19518\, United States
ATTACH;FMTTYPE=image/png:https://icaberks.org/wp-content/uploads/2023/07/Confirmation-retreat.png
END:VEVENT
BEGIN:VEVENT
DTSTART;TZID=America/New_York:20230916T171500
DTEND;TZID=America/New_York:20230916T210000
DTSTAMP:20260421T084737
CREATED:20230711T165644Z
LAST-MODIFIED:20230711T165644Z
UID:10000243-1694884500-1694898000@icaberks.org
SUMMARY:Confirmation Retreat
DESCRIPTION:Confirmation Retreat
URL:https://icaberks.org/events-calendar/confirmation-retreat-2/
LOCATION:ICC\, 905 Chestnut Street\, Douglassville\, PA\, 19518\, United States
ATTACH;FMTTYPE=image/png:https://icaberks.org/wp-content/uploads/2023/07/Confirmation-retreat.png
END:VEVENT
BEGIN:VEVENT
DTSTART;TZID=America/New_York:20230827T090000
DTEND;TZID=America/New_York:20230827T100000
DTSTAMP:20260421T084737
CREATED:20230819T171717Z
LAST-MODIFIED:20230819T171717Z
UID:10000278-1693126800-1693130400@icaberks.org
SUMMARY:Blessing of the Backpacks
DESCRIPTION:Blessing of the Backpacks
URL:https://icaberks.org/events-calendar/blessing-of-the-backpacks-2/
LOCATION:ICC\, 905 Chestnut Street\, Douglassville\, PA\, 19518\, United States
ATTACH;FMTTYPE=image/png:https://icaberks.org/wp-content/uploads/2023/08/Blessing-of-the-backpacks-23.png
END:VEVENT
BEGIN:VEVENT
DTSTART;TZID=America/New_York:20230827T090000
DTEND;TZID=America/New_York:20230827T100000
DTSTAMP:20260421T084737
CREATED:20230819T171717Z
LAST-MODIFIED:20230819T171717Z
UID:10000134-1693126800-1693130400@icaberks.org
SUMMARY:Blessing of the Backpacks
DESCRIPTION:Blessing of the Backpacks
URL:https://icaberks.org/events-calendar/blessing-of-the-backpacks/
LOCATION:ICC\, 905 Chestnut Street\, Douglassville\, PA\, 19518\, United States
ATTACH;FMTTYPE=image/png:https://icaberks.org/wp-content/uploads/2023/08/Blessing-of-the-backpacks-23.png
END:VEVENT
BEGIN:VEVENT
DTSTART;TZID=America/New_York:20230509T130000
DTEND;TZID=America/New_York:20230509T140000
DTSTAMP:20260421T084737
CREATED:20230224T171344Z
LAST-MODIFIED:20230224T171344Z
UID:10000069-1683637200-1683640800@icaberks.org
SUMMARY:May Procession 2023
DESCRIPTION:The Catholic Church sets aside May to honor and reflect on Mary\, the Blessed Virgin. ICA joins this tradition with our annual May Procession. This celebration unites Easter Season and Ordinary Time through reflection on how her active intercession on behalf of the Church brings hope and strength.
URL:https://icaberks.org/events-calendar/may-procession-2023/
LOCATION:ICC\, 905 Chestnut Street\, Douglassville\, PA\, 19518\, United States
ATTACH;FMTTYPE=image/png:https://icaberks.org/wp-content/uploads/2023/02/ICAs-23-MAY-PROCESSION-1.png
END:VEVENT
BEGIN:VEVENT
DTSTART;TZID=America/New_York:20230509T130000
DTEND;TZID=America/New_York:20230509T140000
DTSTAMP:20260421T084737
CREATED:20230224T171344Z
LAST-MODIFIED:20230224T171344Z
UID:10000218-1683637200-1683640800@icaberks.org
SUMMARY:May Procession 2023
DESCRIPTION:The Catholic Church sets aside May to honor and reflect on Mary\, the Blessed Virgin. ICA joins this tradition with our annual May Procession. This celebration unites Easter Season and Ordinary Time through reflection on how her active intercession on behalf of the Church brings hope and strength.
URL:https://icaberks.org/events-calendar/may-procession-2023-2/
LOCATION:ICC\, 905 Chestnut Street\, Douglassville\, PA\, 19518\, United States
ATTACH;FMTTYPE=image/png:https://icaberks.org/wp-content/uploads/2023/02/ICAs-23-MAY-PROCESSION-1.png
END:VEVENT
BEGIN:VEVENT
DTSTART;TZID=America/New_York:20230405T090000
DTEND;TZID=America/New_York:20230405T100000
DTSTAMP:20260421T084737
CREATED:20230401T231354Z
LAST-MODIFIED:20230401T231354Z
UID:10000080-1680685200-1680688800@icaberks.org
SUMMARY:Mass
DESCRIPTION:Mass
URL:https://icaberks.org/events-calendar/mass-5/
LOCATION:ICC\, 905 Chestnut Street\, Douglassville\, PA\, 19518\, United States
ATTACH;FMTTYPE=image/jpeg:https://icaberks.org/wp-content/uploads/2022/08/Mass-1.jpg
END:VEVENT
BEGIN:VEVENT
DTSTART;TZID=America/New_York:20230405T090000
DTEND;TZID=America/New_York:20230405T100000
DTSTAMP:20260421T084737
CREATED:20230401T231354Z
LAST-MODIFIED:20230401T231354Z
UID:10000228-1680685200-1680688800@icaberks.org
SUMMARY:Mass
DESCRIPTION:Mass
URL:https://icaberks.org/events-calendar/mass-5-2/
LOCATION:ICC\, 905 Chestnut Street\, Douglassville\, PA\, 19518\, United States
ATTACH;FMTTYPE=image/jpeg:https://icaberks.org/wp-content/uploads/2022/08/Mass-1.jpg
END:VEVENT
BEGIN:VEVENT
DTSTART;TZID=America/New_York:20230402T160000
DTEND;TZID=America/New_York:20230402T170000
DTSTAMP:20260421T084737
CREATED:20230316T234758Z
LAST-MODIFIED:20230316T234758Z
UID:10000074-1680451200-1680454800@icaberks.org
SUMMARY:The Living Stations of the Cross
DESCRIPTION:The Living Stations of the Cross
URL:https://icaberks.org/events-calendar/the-living-stations-of-the-cross-2/
LOCATION:ICC\, 905 Chestnut Street\, Douglassville\, PA\, 19518\, United States
ATTACH;FMTTYPE=image/jpeg:https://icaberks.org/wp-content/uploads/2023/03/Living-Stations.jpg
END:VEVENT
BEGIN:VEVENT
DTSTART;TZID=America/New_York:20230402T160000
DTEND;TZID=America/New_York:20230402T170000
DTSTAMP:20260421T084737
CREATED:20230316T234758Z
LAST-MODIFIED:20230316T234758Z
UID:10000223-1680451200-1680454800@icaberks.org
SUMMARY:The Living Stations of the Cross
DESCRIPTION:The Living Stations of the Cross
URL:https://icaberks.org/events-calendar/the-living-stations-of-the-cross-2-2/
LOCATION:ICC\, 905 Chestnut Street\, Douglassville\, PA\, 19518\, United States
ATTACH;FMTTYPE=image/jpeg:https://icaberks.org/wp-content/uploads/2023/03/Living-Stations.jpg
END:VEVENT
END:VCALENDAR