BEGIN:VCALENDAR
VERSION:2.0
PRODID:-//Immaculate Conception Academy - ECPv6.15.20//NONSGML v1.0//EN
CALSCALE:GREGORIAN
METHOD:PUBLISH
X-WR-CALNAME:Immaculate Conception Academy
X-ORIGINAL-URL:https://icaberks.org
X-WR-CALDESC:Events for Immaculate Conception Academy
REFRESH-INTERVAL;VALUE=DURATION:PT1H
X-Robots-Tag:noindex
X-PUBLISHED-TTL:PT1H
BEGIN:VTIMEZONE
TZID:America/New_York
BEGIN:DAYLIGHT
TZOFFSETFROM:-0500
TZOFFSETTO:-0400
TZNAME:EDT
DTSTART:20220313T070000
END:DAYLIGHT
BEGIN:STANDARD
TZOFFSETFROM:-0400
TZOFFSETTO:-0500
TZNAME:EST
DTSTART:20221106T060000
END:STANDARD
BEGIN:DAYLIGHT
TZOFFSETFROM:-0500
TZOFFSETTO:-0400
TZNAME:EDT
DTSTART:20230312T070000
END:DAYLIGHT
BEGIN:STANDARD
TZOFFSETFROM:-0400
TZOFFSETTO:-0500
TZNAME:EST
DTSTART:20231105T060000
END:STANDARD
BEGIN:DAYLIGHT
TZOFFSETFROM:-0500
TZOFFSETTO:-0400
TZNAME:EDT
DTSTART:20240310T070000
END:DAYLIGHT
BEGIN:STANDARD
TZOFFSETFROM:-0400
TZOFFSETTO:-0500
TZNAME:EST
DTSTART:20241103T060000
END:STANDARD
END:VTIMEZONE
BEGIN:VEVENT
DTSTART;VALUE=DATE:20231202
DTEND;VALUE=DATE:20231203
DTSTAMP:20260423T084432
CREATED:20230725T232927Z
LAST-MODIFIED:20230725T232927Z
UID:10000254-1701475200-1701561599@icaberks.org
SUMMARY:Santa Breakfast
DESCRIPTION:Santa Breakfast
URL:https://icaberks.org/events-calendar/santa-breakfast-2/
LOCATION:ICC Social Hall\, 905 Chestnut Street\, Douglassville\, PA\, 19518\, United States
ATTACH;FMTTYPE=image/jpeg:https://icaberks.org/wp-content/uploads/2022/11/Copy-of-Breakfast-with-Facebook-Post.jpg
END:VEVENT
BEGIN:VEVENT
DTSTART;TZID=America/New_York:20230405T080000
DTEND;TZID=America/New_York:20230405T170000
DTSTAMP:20260423T084432
CREATED:20230324T023751Z
LAST-MODIFIED:20230324T023751Z
UID:10000075-1680681600-1680714000@icaberks.org
SUMMARY:Seder Meal – (5th grade through 8th grade)
DESCRIPTION:The Seder meal is a traditional Passover meal full of symbolism and meaning. It includes several components\, such as bitter herbs\, wine\, matzo bread\, apples\, and lamb. Bitter herbs are eaten to remind us of the bitterness of slavery in Egypt. Wine is used to celebrate freedom and joy. Matzo bread symbolizes the haste with which the Jews left Egypt. Apples dipped in honey represent the hope for a sweet year ahead. Finally\, the lamb is served to remember the sacrificial lamb offered before the Exodus from Egypt. These elements combine to create a meaningful and memorable Seder meal that celebrates freedom and joy. \n  \n  \n 
URL:https://icaberks.org/events-calendar/seder-meal/
LOCATION:ICC Social Hall\, 905 Chestnut Street\, Douglassville\, PA\, 19518\, United States
ATTACH;FMTTYPE=image/png:https://icaberks.org/wp-content/uploads/2023/03/Seder-Meal.png
END:VEVENT
BEGIN:VEVENT
DTSTART;TZID=America/New_York:20230405T080000
DTEND;TZID=America/New_York:20230405T170000
DTSTAMP:20260423T084432
CREATED:20230324T023751Z
LAST-MODIFIED:20230324T023751Z
UID:10000224-1680681600-1680714000@icaberks.org
SUMMARY:Seder Meal – (5th grade through 8th grade)
DESCRIPTION:The Seder meal is a traditional Passover meal full of symbolism and meaning. It includes several components\, such as bitter herbs\, wine\, matzo bread\, apples\, and lamb. Bitter herbs are eaten to remind us of the bitterness of slavery in Egypt. Wine is used to celebrate freedom and joy. Matzo bread symbolizes the haste with which the Jews left Egypt. Apples dipped in honey represent the hope for a sweet year ahead. Finally\, the lamb is served to remember the sacrificial lamb offered before the Exodus from Egypt. These elements combine to create a meaningful and memorable Seder meal that celebrates freedom and joy. \n  \n  \n 
URL:https://icaberks.org/events-calendar/seder-meal-2/
LOCATION:ICC Social Hall\, 905 Chestnut Street\, Douglassville\, PA\, 19518\, United States
ATTACH;FMTTYPE=image/png:https://icaberks.org/wp-content/uploads/2023/03/Seder-Meal.png
END:VEVENT
END:VCALENDAR