BEGIN:VCALENDAR
VERSION:2.0
PRODID:-//Immaculate Conception Academy - ECPv6.15.20//NONSGML v1.0//EN
CALSCALE:GREGORIAN
METHOD:PUBLISH
X-WR-CALNAME:Immaculate Conception Academy
X-ORIGINAL-URL:https://icaberks.org
X-WR-CALDESC:Events for Immaculate Conception Academy
REFRESH-INTERVAL;VALUE=DURATION:PT1H
X-Robots-Tag:noindex
X-PUBLISHED-TTL:PT1H
BEGIN:VTIMEZONE
TZID:America/New_York
BEGIN:DAYLIGHT
TZOFFSETFROM:-0500
TZOFFSETTO:-0400
TZNAME:EDT
DTSTART:20220313T070000
END:DAYLIGHT
BEGIN:STANDARD
TZOFFSETFROM:-0400
TZOFFSETTO:-0500
TZNAME:EST
DTSTART:20221106T060000
END:STANDARD
BEGIN:DAYLIGHT
TZOFFSETFROM:-0500
TZOFFSETTO:-0400
TZNAME:EDT
DTSTART:20230312T070000
END:DAYLIGHT
BEGIN:STANDARD
TZOFFSETFROM:-0400
TZOFFSETTO:-0500
TZNAME:EST
DTSTART:20231105T060000
END:STANDARD
BEGIN:DAYLIGHT
TZOFFSETFROM:-0500
TZOFFSETTO:-0400
TZNAME:EDT
DTSTART:20240310T070000
END:DAYLIGHT
BEGIN:STANDARD
TZOFFSETFROM:-0400
TZOFFSETTO:-0500
TZNAME:EST
DTSTART:20241103T060000
END:STANDARD
BEGIN:DAYLIGHT
TZOFFSETFROM:-0500
TZOFFSETTO:-0400
TZNAME:EDT
DTSTART:20250309T070000
END:DAYLIGHT
BEGIN:STANDARD
TZOFFSETFROM:-0400
TZOFFSETTO:-0500
TZNAME:EST
DTSTART:20251102T060000
END:STANDARD
END:VTIMEZONE
BEGIN:VEVENT
DTSTART;TZID=America/New_York:20240531T170000
DTEND;TZID=America/New_York:20240531T190000
DTSTAMP:20260423T073426
CREATED:20240213T165452Z
LAST-MODIFIED:20240510T165440Z
UID:10000167-1717174800-1717182000@icaberks.org
SUMMARY:Graduation Dinner
DESCRIPTION:Graduation Dinner
URL:https://icaberks.org/events-calendar/graduation-dinner/
LOCATION:ICC Social Hall\, 905 Chestnut Street\, Douglassville\, PA\, 19518\, United States
END:VEVENT
BEGIN:VEVENT
DTSTART;TZID=America/New_York:20240323T170000
DTEND;TZID=America/New_York:20240323T220000
DTSTAMP:20260423T073426
CREATED:20240213T163201Z
LAST-MODIFIED:20240213T163201Z
UID:10000312-1711213200-1711231200@icaberks.org
SUMMARY:HSO Designer Bag Bingo
DESCRIPTION:HSO Designer Bag Bingo – \nPlease join us for an evening of 16 regular bingo games\, 4 special games\, basket raffles\, 50/50\, and an amazing grand prize.\nDoors open at 5pm ~ Event begins at 6pm\nRefreshments will be available for purchase at our event.\nBYOS – BYOB\nThis is an adult (21 and over) only event.\nTicket Links:\nTables: SOLD OUT!\nIndividual tickets:\nhttps://checkout.square.site/buy/5OTOVPZYKHRGLWAA5GP6RYMF
URL:https://icaberks.org/events-calendar/hso-designer-bag-bingo-2-2/
LOCATION:ICC Social Hall\, 905 Chestnut Street\, Douglassville\, PA\, 19518\, United States
END:VEVENT
BEGIN:VEVENT
DTSTART;TZID=America/New_York:20240314T193000
DTEND;TZID=America/New_York:20240314T203000
DTSTAMP:20260423T073426
CREATED:20240213T162647Z
LAST-MODIFIED:20240213T162647Z
UID:10000311-1710444600-1710448200@icaberks.org
SUMMARY:First Communion Parent Meeting
DESCRIPTION:First Communion Parent Meeting in the Social Hall
URL:https://icaberks.org/events-calendar/first-communion-parent-meeting/
LOCATION:ICC Social Hall\, 905 Chestnut Street\, Douglassville\, PA\, 19518\, United States
END:VEVENT
BEGIN:VEVENT
DTSTART;TZID=America/New_York:20240127T080000
DTEND;TZID=America/New_York:20240127T170000
DTSTAMP:20260423T073426
CREATED:20240105T182305Z
LAST-MODIFIED:20240105T182305Z
UID:10000294-1706342400-1706374800@icaberks.org
SUMMARY:CYO Kitchen Kapers
DESCRIPTION:This competition is open to all students in 6th\, 7th\, and 8th grade who either\nattend the Academy or attend CCD through our parish. CYO WILL ANNOUNCE THE TIME FOR THE EVENT.  \n  \nThe County Kitchen Kapers will be held on\nSaturday\, February 10th at Sacred Heart School in Reading.
URL:https://icaberks.org/events-calendar/cyo-kitchen-kapers/
LOCATION:ICC Social Hall\, 905 Chestnut Street\, Douglassville\, PA\, 19518\, United States
ATTACH;FMTTYPE=image/jpeg:https://icaberks.org/wp-content/uploads/2022/08/kitchen-kapers-1.jpg
END:VEVENT
BEGIN:VEVENT
DTSTART;VALUE=DATE:20231202
DTEND;VALUE=DATE:20231203
DTSTAMP:20260423T073426
CREATED:20230725T232927Z
LAST-MODIFIED:20230725T232927Z
UID:10000107-1701475200-1701561599@icaberks.org
SUMMARY:Santa Breakfast
DESCRIPTION:Santa Breakfast
URL:https://icaberks.org/events-calendar/santa-breakfast/
LOCATION:ICC Social Hall\, 905 Chestnut Street\, Douglassville\, PA\, 19518\, United States
ATTACH;FMTTYPE=image/jpeg:https://icaberks.org/wp-content/uploads/2022/11/Copy-of-Breakfast-with-Facebook-Post.jpg
END:VEVENT
BEGIN:VEVENT
DTSTART;VALUE=DATE:20231202
DTEND;VALUE=DATE:20231203
DTSTAMP:20260423T073426
CREATED:20230725T232927Z
LAST-MODIFIED:20230725T232927Z
UID:10000254-1701475200-1701561599@icaberks.org
SUMMARY:Santa Breakfast
DESCRIPTION:Santa Breakfast
URL:https://icaberks.org/events-calendar/santa-breakfast-2/
LOCATION:ICC Social Hall\, 905 Chestnut Street\, Douglassville\, PA\, 19518\, United States
ATTACH;FMTTYPE=image/jpeg:https://icaberks.org/wp-content/uploads/2022/11/Copy-of-Breakfast-with-Facebook-Post.jpg
END:VEVENT
BEGIN:VEVENT
DTSTART;TZID=America/New_York:20230405T080000
DTEND;TZID=America/New_York:20230405T170000
DTSTAMP:20260423T073426
CREATED:20230324T023751Z
LAST-MODIFIED:20230324T023751Z
UID:10000075-1680681600-1680714000@icaberks.org
SUMMARY:Seder Meal – (5th grade through 8th grade)
DESCRIPTION:The Seder meal is a traditional Passover meal full of symbolism and meaning. It includes several components\, such as bitter herbs\, wine\, matzo bread\, apples\, and lamb. Bitter herbs are eaten to remind us of the bitterness of slavery in Egypt. Wine is used to celebrate freedom and joy. Matzo bread symbolizes the haste with which the Jews left Egypt. Apples dipped in honey represent the hope for a sweet year ahead. Finally\, the lamb is served to remember the sacrificial lamb offered before the Exodus from Egypt. These elements combine to create a meaningful and memorable Seder meal that celebrates freedom and joy. \n  \n  \n 
URL:https://icaberks.org/events-calendar/seder-meal/
LOCATION:ICC Social Hall\, 905 Chestnut Street\, Douglassville\, PA\, 19518\, United States
ATTACH;FMTTYPE=image/png:https://icaberks.org/wp-content/uploads/2023/03/Seder-Meal.png
END:VEVENT
BEGIN:VEVENT
DTSTART;TZID=America/New_York:20230405T080000
DTEND;TZID=America/New_York:20230405T170000
DTSTAMP:20260423T073426
CREATED:20230324T023751Z
LAST-MODIFIED:20230324T023751Z
UID:10000224-1680681600-1680714000@icaberks.org
SUMMARY:Seder Meal – (5th grade through 8th grade)
DESCRIPTION:The Seder meal is a traditional Passover meal full of symbolism and meaning. It includes several components\, such as bitter herbs\, wine\, matzo bread\, apples\, and lamb. Bitter herbs are eaten to remind us of the bitterness of slavery in Egypt. Wine is used to celebrate freedom and joy. Matzo bread symbolizes the haste with which the Jews left Egypt. Apples dipped in honey represent the hope for a sweet year ahead. Finally\, the lamb is served to remember the sacrificial lamb offered before the Exodus from Egypt. These elements combine to create a meaningful and memorable Seder meal that celebrates freedom and joy. \n  \n  \n 
URL:https://icaberks.org/events-calendar/seder-meal-2/
LOCATION:ICC Social Hall\, 905 Chestnut Street\, Douglassville\, PA\, 19518\, United States
ATTACH;FMTTYPE=image/png:https://icaberks.org/wp-content/uploads/2023/03/Seder-Meal.png
END:VEVENT
END:VCALENDAR