BEGIN:VCALENDAR
VERSION:2.0
PRODID:-//Immaculate Conception Academy - ECPv6.15.20//NONSGML v1.0//EN
CALSCALE:GREGORIAN
METHOD:PUBLISH
X-WR-CALNAME:Immaculate Conception Academy
X-ORIGINAL-URL:https://icaberks.org
X-WR-CALDESC:Events for Immaculate Conception Academy
REFRESH-INTERVAL;VALUE=DURATION:PT1H
X-Robots-Tag:noindex
X-PUBLISHED-TTL:PT1H
BEGIN:VTIMEZONE
TZID:America/New_York
BEGIN:DAYLIGHT
TZOFFSETFROM:-0500
TZOFFSETTO:-0400
TZNAME:EDT
DTSTART:20230312T070000
END:DAYLIGHT
BEGIN:STANDARD
TZOFFSETFROM:-0400
TZOFFSETTO:-0500
TZNAME:EST
DTSTART:20231105T060000
END:STANDARD
BEGIN:DAYLIGHT
TZOFFSETFROM:-0500
TZOFFSETTO:-0400
TZNAME:EDT
DTSTART:20240310T070000
END:DAYLIGHT
BEGIN:STANDARD
TZOFFSETFROM:-0400
TZOFFSETTO:-0500
TZNAME:EST
DTSTART:20241103T060000
END:STANDARD
BEGIN:DAYLIGHT
TZOFFSETFROM:-0500
TZOFFSETTO:-0400
TZNAME:EDT
DTSTART:20250309T070000
END:DAYLIGHT
BEGIN:STANDARD
TZOFFSETFROM:-0400
TZOFFSETTO:-0500
TZNAME:EST
DTSTART:20251102T060000
END:STANDARD
END:VTIMEZONE
BEGIN:VEVENT
DTSTART;TZID=America/New_York:20240620T090000
DTEND;TZID=America/New_York:20240620T130000
DTSTAMP:20260421T210525
CREATED:20240603T160440Z
LAST-MODIFIED:20240603T162626Z
UID:10000465-1718874000-1718888400@icaberks.org
SUMMARY:Summer Office Hours
DESCRIPTION:Summer Office Hours Tuesdays & Thursdays 9-1 pm. Please contact the office to schedule a visit. 610-404-8645
URL:https://icaberks.org/events-calendar/summer-office-hours/2024-06-20/
LOCATION:ICA\, 903 Chestnut St\, Douglassville\, PA\, 19518\, United States
ATTACH;FMTTYPE=image/png:https://icaberks.org/wp-content/uploads/2024/06/SUMMER-hOURA-1.png
END:VEVENT
BEGIN:VEVENT
DTSTART;TZID=America/New_York:20240618T090000
DTEND;TZID=America/New_York:20240618T130000
DTSTAMP:20260421T210525
CREATED:20240603T161349Z
LAST-MODIFIED:20240603T162315Z
UID:10000464-1718701200-1718715600@icaberks.org
SUMMARY:Summer Office Hours
DESCRIPTION:Summer Office Hours Tuesdays & Thursdays 9-1 pm. Please contact the office to schedule a visit. 610-404-8645
URL:https://icaberks.org/events-calendar/summer-office-hours-2/2024-06-18/2/
LOCATION:ICA\, 903 Chestnut St\, Douglassville\, PA\, 19518\, United States
ATTACH;FMTTYPE=image/png:https://icaberks.org/wp-content/uploads/2024/06/SUMMER-hOURA-1.png
END:VEVENT
BEGIN:VEVENT
DTSTART;TZID=America/New_York:20240618T080000
DTEND;TZID=America/New_York:20240618T170000
DTSTAMP:20260421T210525
CREATED:20240603T161349Z
LAST-MODIFIED:20240603T162315Z
UID:10000463-1718697600-1718730000@icaberks.org
SUMMARY:Summer Office Hours
DESCRIPTION:Summer Office Hours Tuesdays & Thursdays 9-1 pm. Please contact the office to schedule a visit. 610-404-8645
URL:https://icaberks.org/events-calendar/summer-office-hours-2/2024-06-18/1/
LOCATION:ICA\, 903 Chestnut St\, Douglassville\, PA\, 19518\, United States
ATTACH;FMTTYPE=image/png:https://icaberks.org/wp-content/uploads/2024/06/SUMMER-hOURA-1.png
END:VEVENT
BEGIN:VEVENT
DTSTART;TZID=America/New_York:20240606T103000
DTEND;TZID=America/New_York:20240606T170000
DTSTAMP:20260421T210525
CREATED:20230726T004708Z
LAST-MODIFIED:20230726T004708Z
UID:10000132-1717669800-1717693200@icaberks.org
SUMMARY:10:30 Dismissal / Last Day of School
DESCRIPTION:10:30 Dismissal / Last Day of School
URL:https://icaberks.org/events-calendar/1030-dismissal-last-day-of-school/
LOCATION:ICA\, 903 Chestnut St\, Douglassville\, PA\, 19518\, United States
END:VEVENT
BEGIN:VEVENT
DTSTART;TZID=America/New_York:20240605T120000
DTEND;TZID=America/New_York:20240605T170000
DTSTAMP:20260421T210525
CREATED:20230726T004546Z
LAST-MODIFIED:20230726T004546Z
UID:10000275-1717588800-1717606800@icaberks.org
SUMMARY:Noon Dismissal
DESCRIPTION:Noon Dismissal
URL:https://icaberks.org/events-calendar/noon-dismissal-11-2/
LOCATION:ICA\, 903 Chestnut St\, Douglassville\, PA\, 19518\, United States
ATTACH;FMTTYPE=image/png:https://icaberks.org/wp-content/uploads/2023/07/Early-Dismissal-1.png
END:VEVENT
BEGIN:VEVENT
DTSTART;TZID=America/New_York:20240528T080000
DTEND;TZID=America/New_York:20240531T170000
DTSTAMP:20260421T210525
CREATED:20230726T004232Z
LAST-MODIFIED:20230726T004232Z
UID:10000273-1716883200-1717174800@icaberks.org
SUMMARY:Final Exams 1-7th
DESCRIPTION:Final Exams 1-7th
URL:https://icaberks.org/events-calendar/final-exams-1-7th-2/
LOCATION:ICA\, 903 Chestnut St\, Douglassville\, PA\, 19518\, United States
END:VEVENT
BEGIN:VEVENT
DTSTART;VALUE=DATE:20240527
DTEND;VALUE=DATE:20240528
DTSTAMP:20260421T210525
CREATED:20230726T004041Z
LAST-MODIFIED:20230726T004041Z
UID:10000128-1716768000-1716854399@icaberks.org
SUMMARY:School Closed
DESCRIPTION:School Closed
URL:https://icaberks.org/events-calendar/school-closed-4/
LOCATION:ICA\, 903 Chestnut St\, Douglassville\, PA\, 19518\, United States
END:VEVENT
BEGIN:VEVENT
DTSTART;TZID=America/New_York:20240522T080000
DTEND;TZID=America/New_York:20240522T170000
DTSTAMP:20260421T210525
CREATED:20240213T165105Z
LAST-MODIFIED:20240213T165105Z
UID:10000321-1716364800-1716397200@icaberks.org
SUMMARY:7th Grade Confirmation Candidate Interviews
DESCRIPTION:7th Grade Confirmation Candidate Interviews
URL:https://icaberks.org/events-calendar/7th-grade-confirmation-candidate-interviews/
LOCATION:ICA\, 903 Chestnut St\, Douglassville\, PA\, 19518\, United States
END:VEVENT
BEGIN:VEVENT
DTSTART;TZID=America/New_York:20240521T080000
DTEND;TZID=America/New_York:20240521T170000
DTSTAMP:20260421T210525
CREATED:20240213T164912Z
LAST-MODIFIED:20240213T164912Z
UID:10000320-1716278400-1716310800@icaberks.org
SUMMARY:7th Grade Bonding at BC
DESCRIPTION:7th Grade Bonding at BC
URL:https://icaberks.org/events-calendar/7th-grade-bonding-at-bc/
LOCATION:ICA\, 903 Chestnut St\, Douglassville\, PA\, 19518\, United States
END:VEVENT
BEGIN:VEVENT
DTSTART;TZID=America/New_York:20240517T080000
DTEND;TZID=America/New_York:20240517T170000
DTSTAMP:20260421T210525
CREATED:20240304T175250Z
LAST-MODIFIED:20240304T175250Z
UID:10000326-1715932800-1715965200@icaberks.org
SUMMARY:Talent Show
DESCRIPTION:Talent Show
URL:https://icaberks.org/events-calendar/talent-show-2-2/
LOCATION:ICA\, 903 Chestnut St\, Douglassville\, PA\, 19518\, United States
END:VEVENT
BEGIN:VEVENT
DTSTART;TZID=America/New_York:20240515T080000
DTEND;TZID=America/New_York:20240515T170000
DTSTAMP:20260421T210525
CREATED:20240213T164714Z
LAST-MODIFIED:20240510T165652Z
UID:10000319-1715760000-1715792400@icaberks.org
SUMMARY:5th\, 6th & 7th Grade Trip to Hershey Museum
DESCRIPTION:
URL:https://icaberks.org/events-calendar/5ht-6th-7th-grade-trip-to-hershey-museum/
LOCATION:ICA\, 903 Chestnut St\, Douglassville\, PA\, 19518\, United States
END:VEVENT
BEGIN:VEVENT
DTSTART;VALUE=DATE:20240515
DTEND;VALUE=DATE:20240516
DTSTAMP:20260421T210525
CREATED:20240213T164513Z
LAST-MODIFIED:20240213T164513Z
UID:10000318-1715731200-1715817599@icaberks.org
SUMMARY:8th Grade Class Trip to NYC
DESCRIPTION:8th Grade Class Trip to NYC
URL:https://icaberks.org/events-calendar/8th-grade-class-trip-to-nyc/
LOCATION:ICA\, 903 Chestnut St\, Douglassville\, PA\, 19518\, United States
END:VEVENT
BEGIN:VEVENT
DTSTART;TZID=America/New_York:20240508T080000
DTEND;TZID=America/New_York:20240508T170000
DTSTAMP:20260421T210525
CREATED:20240304T175212Z
LAST-MODIFIED:20240304T175212Z
UID:10000325-1715155200-1715187600@icaberks.org
SUMMARY:Talent Show Dress Rehearsal
DESCRIPTION:Talent Show Dress Rehearsal
URL:https://icaberks.org/events-calendar/talent-show-dress-rehearsal/
LOCATION:ICA\, 903 Chestnut St\, Douglassville\, PA\, 19518\, United States
END:VEVENT
BEGIN:VEVENT
DTSTART;TZID=America/New_York:20240502T080000
DTEND;TZID=America/New_York:20240502T170000
DTSTAMP:20260421T210525
CREATED:20240213T163937Z
LAST-MODIFIED:20240213T163937Z
UID:10000315-1714636800-1714669200@icaberks.org
SUMMARY:Fourth Grade Bonding At BC
DESCRIPTION:Fourth Grade Bonding At BC
URL:https://icaberks.org/events-calendar/fourth-grade-bonding-at-bc/
LOCATION:ICA\, 903 Chestnut St\, Douglassville\, PA\, 19518\, United States
END:VEVENT
BEGIN:VEVENT
DTSTART;VALUE=DATE:20240429
DTEND;VALUE=DATE:20240430
DTSTAMP:20260421T210525
CREATED:20240403T142352Z
LAST-MODIFIED:20240403T142352Z
UID:10000329-1714348800-1714435199@icaberks.org
SUMMARY:No School - Unused Snow Day
DESCRIPTION:
URL:https://icaberks.org/events-calendar/no-school-unused-snow-day-4/
LOCATION:ICA\, 903 Chestnut St\, Douglassville\, PA\, 19518\, United States
ATTACH;FMTTYPE=image/jpeg:https://icaberks.org/wp-content/uploads/2023/03/no-school-1.jpg
END:VEVENT
BEGIN:VEVENT
DTSTART;VALUE=DATE:20240426
DTEND;VALUE=DATE:20240427
DTSTAMP:20260421T210525
CREATED:20240403T142158Z
LAST-MODIFIED:20240403T142158Z
UID:10000328-1714089600-1714175999@icaberks.org
SUMMARY:No School - Unused Snow Day
DESCRIPTION:
URL:https://icaberks.org/events-calendar/no-school-unused-snow-day-3-2/
LOCATION:ICA\, 903 Chestnut St\, Douglassville\, PA\, 19518\, United States
ATTACH;FMTTYPE=image/jpeg:https://icaberks.org/wp-content/uploads/2023/03/no-school-1.jpg
END:VEVENT
BEGIN:VEVENT
DTSTART;TZID=America/New_York:20240422T080000
DTEND;TZID=America/New_York:20240426T170000
DTSTAMP:20260421T210525
CREATED:20230726T003850Z
LAST-MODIFIED:20230726T003850Z
UID:10000127-1713772800-1714150800@icaberks.org
SUMMARY:IOWA Testing 2-7th grades
DESCRIPTION:IOWA Testing 2-7th grades
URL:https://icaberks.org/events-calendar/iowa-testing-2-7th-grades/
LOCATION:ICA\, 903 Chestnut St\, Douglassville\, PA\, 19518\, United States
ATTACH;FMTTYPE=image/jpeg:https://icaberks.org/wp-content/uploads/2022/11/Iowa-Test-1.jpg
END:VEVENT
BEGIN:VEVENT
DTSTART;TZID=America/New_York:20240422T080000
DTEND;TZID=America/New_York:20240426T170000
DTSTAMP:20260421T210525
CREATED:20230726T003709Z
LAST-MODIFIED:20230726T003709Z
UID:10000126-1713772800-1714150800@icaberks.org
SUMMARY:HOPE Mission Clothing Drive
DESCRIPTION:HOPE Mission Clothing Drive
URL:https://icaberks.org/events-calendar/hope-mission-clothing-drive-2/
LOCATION:ICA\, 903 Chestnut St\, Douglassville\, PA\, 19518\, United States
ATTACH;FMTTYPE=image/png:https://icaberks.org/wp-content/uploads/2023/07/Blue-Minimalist-Clothing-Drive-Poster-Facebook-Post-Landscape-1.png
END:VEVENT
BEGIN:VEVENT
DTSTART;TZID=America/New_York:20240422T080000
DTEND;TZID=America/New_York:20240425T170000
DTSTAMP:20260421T210525
CREATED:20230726T003709Z
LAST-MODIFIED:20230726T003709Z
UID:10000271-1713772800-1714064400@icaberks.org
SUMMARY:HOPE Mission Clothing Drive
DESCRIPTION:HOPE Mission Clothing Drive
URL:https://icaberks.org/events-calendar/hope-mission-clothing-drive-2-2/
LOCATION:ICA\, 903 Chestnut St\, Douglassville\, PA\, 19518\, United States
ATTACH;FMTTYPE=image/png:https://icaberks.org/wp-content/uploads/2023/07/Blue-Minimalist-Clothing-Drive-Poster-Facebook-Post-Landscape-1.png
END:VEVENT
BEGIN:VEVENT
DTSTART;TZID=America/New_York:20240419T120000
DTEND;TZID=America/New_York:20240419T170000
DTSTAMP:20260421T210525
CREATED:20230726T003550Z
LAST-MODIFIED:20230726T003550Z
UID:10000125-1713528000-1713546000@icaberks.org
SUMMARY:Noon Dismissal
DESCRIPTION:Noon Dismissal
URL:https://icaberks.org/events-calendar/noon-dismissal-10/
LOCATION:ICA\, 903 Chestnut St\, Douglassville\, PA\, 19518\, United States
ATTACH;FMTTYPE=:
END:VEVENT
BEGIN:VEVENT
DTSTART;TZID=America/New_York:20240419T120000
DTEND;TZID=America/New_York:20240419T170000
DTSTAMP:20260421T210525
CREATED:20230726T003550Z
LAST-MODIFIED:20230726T003550Z
UID:10000270-1713528000-1713546000@icaberks.org
SUMMARY:Noon Dismissal
DESCRIPTION:Noon Dismissal
URL:https://icaberks.org/events-calendar/noon-dismissal-10-2/
LOCATION:ICA\, 903 Chestnut St\, Douglassville\, PA\, 19518\, United States
ATTACH;FMTTYPE=image/png:https://icaberks.org/wp-content/uploads/2023/07/Early-Dismissal-1.png
END:VEVENT
BEGIN:VEVENT
DTSTART;TZID=America/New_York:20240410T080000
DTEND;TZID=America/New_York:20240412T170000
DTSTAMP:20260421T210525
CREATED:20230726T003307Z
LAST-MODIFIED:20230726T003307Z
UID:10000124-1712736000-1712941200@icaberks.org
SUMMARY:COGAT Testing 3\, 5\, 7
DESCRIPTION:COGAT Testing 3\, 5\, 7
URL:https://icaberks.org/events-calendar/cogat-testing-3-5-7/
LOCATION:ICA\, 903 Chestnut St\, Douglassville\, PA\, 19518\, United States
ATTACH;FMTTYPE=:
END:VEVENT
BEGIN:VEVENT
DTSTART;TZID=America/New_York:20240410T080000
DTEND;TZID=America/New_York:20240410T170000
DTSTAMP:20260421T210525
CREATED:20240304T175122Z
LAST-MODIFIED:20240304T175122Z
UID:10000324-1712736000-1712768400@icaberks.org
SUMMARY:Talent Show Try Outs
DESCRIPTION:Talent Show Try Outs – New Date**
URL:https://icaberks.org/events-calendar/talent-show-try-outs/
LOCATION:ICA\, 903 Chestnut St\, Douglassville\, PA\, 19518\, United States
END:VEVENT
BEGIN:VEVENT
DTSTART;TZID=America/New_York:20240404T133000
DTEND;TZID=America/New_York:20240404T141500
DTSTAMP:20260421T210525
CREATED:20240207T151924Z
LAST-MODIFIED:20240207T151924Z
UID:10000307-1712237400-1712240100@icaberks.org
SUMMARY:RMF's Music in Schools Assembly
DESCRIPTION:RMF’s Music in Schools Assembly
URL:https://icaberks.org/events-calendar/rmfs-music-in-schools-assembly/
LOCATION:ICA\, 903 Chestnut St\, Douglassville\, PA\, 19518\, United States
END:VEVENT
BEGIN:VEVENT
DTSTART;TZID=America/New_York:20240402T080000
DTEND;TZID=America/New_York:20240402T170000
DTSTAMP:20260421T210525
CREATED:20240213T163559Z
LAST-MODIFIED:20240213T163559Z
UID:10000314-1712044800-1712077200@icaberks.org
SUMMARY:Summer Uniforms Start
DESCRIPTION:Summer Uniforms Start
URL:https://icaberks.org/events-calendar/summer-uniforms-start/
LOCATION:ICA\, 903 Chestnut St\, Douglassville\, PA\, 19518\, United States
END:VEVENT
BEGIN:VEVENT
DTSTART;TZID=America/New_York:20240328T080000
DTEND;TZID=America/New_York:20240401T170000
DTSTAMP:20260421T210525
CREATED:20230726T003032Z
LAST-MODIFIED:20230726T003032Z
UID:10000269-1711612800-1711990800@icaberks.org
SUMMARY:Easter Break
DESCRIPTION:Easter Break
URL:https://icaberks.org/events-calendar/easter-break-2/
LOCATION:ICA\, 903 Chestnut St\, Douglassville\, PA\, 19518\, United States
ATTACH;FMTTYPE=image/png:https://icaberks.org/wp-content/uploads/2023/07/Easter-Break.png
END:VEVENT
BEGIN:VEVENT
DTSTART;TZID=America/New_York:20240328T080000
DTEND;TZID=America/New_York:20240401T170000
DTSTAMP:20260421T210525
CREATED:20230726T003032Z
LAST-MODIFIED:20230726T003032Z
UID:10000123-1711612800-1711990800@icaberks.org
SUMMARY:Easter Break
DESCRIPTION:Easter Break
URL:https://icaberks.org/events-calendar/easter-break/
LOCATION:ICA\, 903 Chestnut St\, Douglassville\, PA\, 19518\, United States
ATTACH;FMTTYPE=image/png:https://icaberks.org/wp-content/uploads/2023/07/Easter-Break.png
END:VEVENT
BEGIN:VEVENT
DTSTART;TZID=America/New_York:20240324T160000
DTEND;TZID=America/New_York:20240324T170000
DTSTAMP:20260421T210525
CREATED:20230726T002650Z
LAST-MODIFIED:20230726T002650Z
UID:10000122-1711296000-1711299600@icaberks.org
SUMMARY:The Living Stations - Parish
DESCRIPTION:The Living Stations – Parish
URL:https://icaberks.org/events-calendar/the-living-stations-parish/
LOCATION:ICA\, 903 Chestnut St\, Douglassville\, PA\, 19518\, United States
ATTACH;FMTTYPE=image/jpeg:https://icaberks.org/wp-content/uploads/2023/03/Living-Stations.jpg
END:VEVENT
BEGIN:VEVENT
DTSTART;TZID=America/New_York:20240324T160000
DTEND;TZID=America/New_York:20240324T170000
DTSTAMP:20260421T210525
CREATED:20230726T002650Z
LAST-MODIFIED:20230726T002650Z
UID:10000268-1711296000-1711299600@icaberks.org
SUMMARY:The Living Stations - Parish
DESCRIPTION:The Living Stations – Parish
URL:https://icaberks.org/events-calendar/the-living-stations-parish-2/
LOCATION:ICA\, 903 Chestnut St\, Douglassville\, PA\, 19518\, United States
ATTACH;FMTTYPE=image/jpeg:https://icaberks.org/wp-content/uploads/2023/03/Living-Stations.jpg
END:VEVENT
BEGIN:VEVENT
DTSTART;TZID=America/New_York:20240322T130000
DTEND;TZID=America/New_York:20240322T140000
DTSTAMP:20260421T210525
CREATED:20230726T002447Z
LAST-MODIFIED:20230726T002447Z
UID:10000121-1711112400-1711116000@icaberks.org
SUMMARY:The Living Stations
DESCRIPTION:The Living Stations – For School and families
URL:https://icaberks.org/events-calendar/the-living-stations-2/
LOCATION:ICA\, 903 Chestnut St\, Douglassville\, PA\, 19518\, United States
ATTACH;FMTTYPE=image/jpeg:https://icaberks.org/wp-content/uploads/2023/03/Living-Stations.jpg
END:VEVENT
END:VCALENDAR