BEGIN:VCALENDAR
VERSION:2.0
PRODID:-//Immaculate Conception Academy - ECPv6.15.20//NONSGML v1.0//EN
CALSCALE:GREGORIAN
METHOD:PUBLISH
X-WR-CALNAME:Immaculate Conception Academy
X-ORIGINAL-URL:https://icaberks.org
X-WR-CALDESC:Events for Immaculate Conception Academy
REFRESH-INTERVAL;VALUE=DURATION:PT1H
X-Robots-Tag:noindex
X-PUBLISHED-TTL:PT1H
BEGIN:VTIMEZONE
TZID:America/New_York
BEGIN:DAYLIGHT
TZOFFSETFROM:-0500
TZOFFSETTO:-0400
TZNAME:EDT
DTSTART:20230312T070000
END:DAYLIGHT
BEGIN:STANDARD
TZOFFSETFROM:-0400
TZOFFSETTO:-0500
TZNAME:EST
DTSTART:20231105T060000
END:STANDARD
BEGIN:DAYLIGHT
TZOFFSETFROM:-0500
TZOFFSETTO:-0400
TZNAME:EDT
DTSTART:20240310T070000
END:DAYLIGHT
BEGIN:STANDARD
TZOFFSETFROM:-0400
TZOFFSETTO:-0500
TZNAME:EST
DTSTART:20241103T060000
END:STANDARD
BEGIN:DAYLIGHT
TZOFFSETFROM:-0500
TZOFFSETTO:-0400
TZNAME:EDT
DTSTART:20250309T070000
END:DAYLIGHT
BEGIN:STANDARD
TZOFFSETFROM:-0400
TZOFFSETTO:-0500
TZNAME:EST
DTSTART:20251102T060000
END:STANDARD
END:VTIMEZONE
BEGIN:VEVENT
DTSTART;TZID=America/New_York:20240410T170000
DTEND;TZID=America/New_York:20240410T210000
DTSTAMP:20260421T151104
CREATED:20240403T141952Z
LAST-MODIFIED:20240403T141952Z
UID:10000327-1712768400-1712782800@icaberks.org
SUMMARY:HSO Night at Chipotle
DESCRIPTION:HSO Night at Chipotle
URL:https://icaberks.org/events-calendar/hso-night-at-chipotle/
LOCATION:Chipotle\, 5411 Perkiomen Ave\, Reading\, 19606\, United States
ATTACH;FMTTYPE=application/pdf:https://icaberks.org/wp-content/uploads/2024/04/490190-flyer.pdf
END:VEVENT
END:VCALENDAR