BEGIN:VCALENDAR
VERSION:2.0
PRODID:-//Immaculate Conception Academy - ECPv6.15.20//NONSGML v1.0//EN
CALSCALE:GREGORIAN
METHOD:PUBLISH
X-WR-CALNAME:Immaculate Conception Academy
X-ORIGINAL-URL:https://icaberks.org
X-WR-CALDESC:Events for Immaculate Conception Academy
REFRESH-INTERVAL;VALUE=DURATION:PT1H
X-Robots-Tag:noindex
X-PUBLISHED-TTL:PT1H
BEGIN:VTIMEZONE
TZID:America/New_York
BEGIN:DAYLIGHT
TZOFFSETFROM:-0500
TZOFFSETTO:-0400
TZNAME:EDT
DTSTART:20220313T070000
END:DAYLIGHT
BEGIN:STANDARD
TZOFFSETFROM:-0400
TZOFFSETTO:-0500
TZNAME:EST
DTSTART:20221106T060000
END:STANDARD
BEGIN:DAYLIGHT
TZOFFSETFROM:-0500
TZOFFSETTO:-0400
TZNAME:EDT
DTSTART:20230312T070000
END:DAYLIGHT
BEGIN:STANDARD
TZOFFSETFROM:-0400
TZOFFSETTO:-0500
TZNAME:EST
DTSTART:20231105T060000
END:STANDARD
BEGIN:DAYLIGHT
TZOFFSETFROM:-0500
TZOFFSETTO:-0400
TZNAME:EDT
DTSTART:20240310T070000
END:DAYLIGHT
BEGIN:STANDARD
TZOFFSETFROM:-0400
TZOFFSETTO:-0500
TZNAME:EST
DTSTART:20241103T060000
END:STANDARD
END:VTIMEZONE
BEGIN:VEVENT
DTSTART;TZID=America/New_York:20230211T080000
DTEND;TZID=America/New_York:20230211T170000
DTSTAMP:20260422T200128
CREATED:20221221T140739Z
LAST-MODIFIED:20221221T140739Z
UID:10000213-1676102400-1676134800@icaberks.org
SUMMARY:Kitchen Kapers CYO County Finals at St Peter's Church
DESCRIPTION:Kitchen Kapers CYO County Finals at St Peter’s Church. \nThe IC CYO may submit only one winner to the county competition in each category in each division. Simply stated\, we may submit no more than 11 boys and 11 girls’ entries. \n**Please check with IC CYO for times.**
URL:https://icaberks.org/events-calendar/kitchen-kapers-cyo-county-finals-at-st-peters-church-2/
ATTACH;FMTTYPE=image/png:https://icaberks.org/wp-content/uploads/2022/12/Copy-of-kitchen-kapers-Presentation-169.png
END:VEVENT
END:VCALENDAR