BEGIN:VCALENDAR
VERSION:2.0
PRODID:-//Immaculate Conception Academy - ECPv6.15.20//NONSGML v1.0//EN
CALSCALE:GREGORIAN
METHOD:PUBLISH
X-WR-CALNAME:Immaculate Conception Academy
X-ORIGINAL-URL:https://icaberks.org
X-WR-CALDESC:Events for Immaculate Conception Academy
REFRESH-INTERVAL;VALUE=DURATION:PT1H
X-Robots-Tag:noindex
X-PUBLISHED-TTL:PT1H
BEGIN:VTIMEZONE
TZID:America/New_York
BEGIN:DAYLIGHT
TZOFFSETFROM:-0500
TZOFFSETTO:-0400
TZNAME:EDT
DTSTART:20220313T070000
END:DAYLIGHT
BEGIN:STANDARD
TZOFFSETFROM:-0400
TZOFFSETTO:-0500
TZNAME:EST
DTSTART:20221106T060000
END:STANDARD
BEGIN:DAYLIGHT
TZOFFSETFROM:-0500
TZOFFSETTO:-0400
TZNAME:EDT
DTSTART:20230312T070000
END:DAYLIGHT
BEGIN:STANDARD
TZOFFSETFROM:-0400
TZOFFSETTO:-0500
TZNAME:EST
DTSTART:20231105T060000
END:STANDARD
BEGIN:DAYLIGHT
TZOFFSETFROM:-0500
TZOFFSETTO:-0400
TZNAME:EDT
DTSTART:20240310T070000
END:DAYLIGHT
BEGIN:STANDARD
TZOFFSETFROM:-0400
TZOFFSETTO:-0500
TZNAME:EST
DTSTART:20241103T060000
END:STANDARD
END:VTIMEZONE
BEGIN:VEVENT
DTSTART;TZID=America/New_York:20230825T170000
DTEND;TZID=America/New_York:20230825T200000
DTSTAMP:20260422T164421
CREATED:20230819T171455Z
LAST-MODIFIED:20230819T171455Z
UID:10000133-1692982800-1692993600@icaberks.org
SUMMARY:HSO Back to School Pool Party!
DESCRIPTION:
URL:https://icaberks.org/events-calendar/back-to-school-pool-party/
LOCATION:Amity AC Swim CLub\, 55 Amity Park Rd #8717\, Birdsboro\, PA\, 19508
ATTACH;FMTTYPE=image/png:https://icaberks.org/wp-content/uploads/2023/08/B2S-Pool-PRTY-22.png
END:VEVENT
BEGIN:VEVENT
DTSTART;TZID=America/New_York:20230825T170000
DTEND;TZID=America/New_York:20230825T200000
DTSTAMP:20260422T164421
CREATED:20230819T171455Z
LAST-MODIFIED:20230819T171455Z
UID:10000277-1692982800-1692993600@icaberks.org
SUMMARY:HSO Back to School Pool Party!
DESCRIPTION:
URL:https://icaberks.org/events-calendar/back-to-school-pool-party-2/
LOCATION:Amity AC Swim CLub\, 55 Amity Park Rd #8717\, Birdsboro\, PA\, 19508
ATTACH;FMTTYPE=image/png:https://icaberks.org/wp-content/uploads/2023/08/B2S-Pool-PRTY-22.png
END:VEVENT
END:VCALENDAR