BEGIN:VCALENDAR
VERSION:2.0
PRODID:-//Immaculate Conception Academy - ECPv6.15.20//NONSGML v1.0//EN
CALSCALE:GREGORIAN
METHOD:PUBLISH
X-WR-CALNAME:Immaculate Conception Academy
X-ORIGINAL-URL:https://icaberks.org
X-WR-CALDESC:Events for Immaculate Conception Academy
REFRESH-INTERVAL;VALUE=DURATION:PT1H
X-Robots-Tag:noindex
X-PUBLISHED-TTL:PT1H
BEGIN:VTIMEZONE
TZID:America/New_York
BEGIN:DAYLIGHT
TZOFFSETFROM:-0500
TZOFFSETTO:-0400
TZNAME:EDT
DTSTART:20220313T070000
END:DAYLIGHT
BEGIN:STANDARD
TZOFFSETFROM:-0400
TZOFFSETTO:-0500
TZNAME:EST
DTSTART:20221106T060000
END:STANDARD
BEGIN:DAYLIGHT
TZOFFSETFROM:-0500
TZOFFSETTO:-0400
TZNAME:EDT
DTSTART:20230312T070000
END:DAYLIGHT
BEGIN:STANDARD
TZOFFSETFROM:-0400
TZOFFSETTO:-0500
TZNAME:EST
DTSTART:20231105T060000
END:STANDARD
BEGIN:DAYLIGHT
TZOFFSETFROM:-0500
TZOFFSETTO:-0400
TZNAME:EDT
DTSTART:20240310T070000
END:DAYLIGHT
BEGIN:STANDARD
TZOFFSETFROM:-0400
TZOFFSETTO:-0500
TZNAME:EST
DTSTART:20241103T060000
END:STANDARD
END:VTIMEZONE
BEGIN:VEVENT
DTSTART;VALUE=DATE:20230912
DTEND;VALUE=DATE:20230913
DTSTAMP:20260424T083720
CREATED:20230725T224330Z
LAST-MODIFIED:20230725T224330Z
UID:10000098-1694476800-1694563199@icaberks.org
SUMMARY:Preschool First Day of School
DESCRIPTION:Preschool First Day of School 2023
URL:https://icaberks.org/events-calendar/preschool-first-day-of-school/
LOCATION:ICA\, 903 Chestnut St\, Douglassville\, PA\, 19518\, United States
ATTACH;FMTTYPE=image/jpeg:https://icaberks.org/wp-content/uploads/2023/05/B2S-Preschool.jpg
END:VEVENT
BEGIN:VEVENT
DTSTART;VALUE=DATE:20230912
DTEND;VALUE=DATE:20230913
DTSTAMP:20260424T083720
CREATED:20230725T224330Z
LAST-MODIFIED:20230725T224330Z
UID:10000245-1694476800-1694563199@icaberks.org
SUMMARY:Preschool First Day of School
DESCRIPTION:Preschool First Day of School 2023
URL:https://icaberks.org/events-calendar/preschool-first-day-of-school-2/
LOCATION:ICA\, 903 Chestnut St\, Douglassville\, PA\, 19518\, United States
ATTACH;FMTTYPE=image/jpeg:https://icaberks.org/wp-content/uploads/2023/05/B2S-Preschool.jpg
END:VEVENT
END:VCALENDAR