BEGIN:VCALENDAR
VERSION:2.0
PRODID:-//Immaculate Conception Academy - ECPv6.15.20//NONSGML v1.0//EN
CALSCALE:GREGORIAN
METHOD:PUBLISH
X-ORIGINAL-URL:https://icaberks.org
X-WR-CALDESC:Events for Immaculate Conception Academy
REFRESH-INTERVAL;VALUE=DURATION:PT1H
X-Robots-Tag:noindex
X-PUBLISHED-TTL:PT1H
BEGIN:VTIMEZONE
TZID:America/New_York
BEGIN:DAYLIGHT
TZOFFSETFROM:-0500
TZOFFSETTO:-0400
TZNAME:EDT
DTSTART:20230312T070000
END:DAYLIGHT
BEGIN:STANDARD
TZOFFSETFROM:-0400
TZOFFSETTO:-0500
TZNAME:EST
DTSTART:20231105T060000
END:STANDARD
BEGIN:DAYLIGHT
TZOFFSETFROM:-0500
TZOFFSETTO:-0400
TZNAME:EDT
DTSTART:20240310T070000
END:DAYLIGHT
BEGIN:STANDARD
TZOFFSETFROM:-0400
TZOFFSETTO:-0500
TZNAME:EST
DTSTART:20241103T060000
END:STANDARD
BEGIN:DAYLIGHT
TZOFFSETFROM:-0500
TZOFFSETTO:-0400
TZNAME:EDT
DTSTART:20250309T070000
END:DAYLIGHT
BEGIN:STANDARD
TZOFFSETFROM:-0400
TZOFFSETTO:-0500
TZNAME:EST
DTSTART:20251102T060000
END:STANDARD
END:VTIMEZONE
BEGIN:VEVENT
DTSTART;TZID=America/New_York:20240510T084500
DTEND;TZID=America/New_York:20240510T110000
DTSTAMP:20260423T012116
CREATED:20240227T181039Z
LAST-MODIFIED:20240227T181039Z
UID:10000322-1715330700-1715338800@icaberks.org
SUMMARY:Second Grade Retreat
DESCRIPTION:Class retreat will be on Friday\, May 10th from 8:45 – 11am with dismissal from church.
URL:https://icaberks.org/events-calendar/second-grade-retreat/
LOCATION:ICC\, 905 Chestnut Street\, Douglassville\, PA\, 19518\, United States
END:VEVENT
END:VCALENDAR