BEGIN:VCALENDAR
VERSION:2.0
PRODID:-//Immaculate Conception Academy - ECPv6.15.20//NONSGML v1.0//EN
CALSCALE:GREGORIAN
METHOD:PUBLISH
X-ORIGINAL-URL:https://icaberks.org
X-WR-CALDESC:Events for Immaculate Conception Academy
REFRESH-INTERVAL;VALUE=DURATION:PT1H
X-Robots-Tag:noindex
X-PUBLISHED-TTL:PT1H
BEGIN:VTIMEZONE
TZID:America/New_York
BEGIN:DAYLIGHT
TZOFFSETFROM:-0500
TZOFFSETTO:-0400
TZNAME:EDT
DTSTART:20220313T070000
END:DAYLIGHT
BEGIN:STANDARD
TZOFFSETFROM:-0400
TZOFFSETTO:-0500
TZNAME:EST
DTSTART:20221106T060000
END:STANDARD
BEGIN:DAYLIGHT
TZOFFSETFROM:-0500
TZOFFSETTO:-0400
TZNAME:EDT
DTSTART:20230312T070000
END:DAYLIGHT
BEGIN:STANDARD
TZOFFSETFROM:-0400
TZOFFSETTO:-0500
TZNAME:EST
DTSTART:20231105T060000
END:STANDARD
BEGIN:DAYLIGHT
TZOFFSETFROM:-0500
TZOFFSETTO:-0400
TZNAME:EDT
DTSTART:20240310T070000
END:DAYLIGHT
BEGIN:STANDARD
TZOFFSETFROM:-0400
TZOFFSETTO:-0500
TZNAME:EST
DTSTART:20241103T060000
END:STANDARD
END:VTIMEZONE
BEGIN:VEVENT
DTSTART;TZID=America/New_York:20230907T183000
DTEND;TZID=America/New_York:20230907T190000
DTSTAMP:20260421T060107
CREATED:20230522T144701Z
LAST-MODIFIED:20230522T144701Z
UID:10000094-1694111400-1694113200@icaberks.org
SUMMARY:Preschool Parent Orientation
DESCRIPTION:Preschool Parent Orientation – This orientation is for adults to learn about procedures and ask any questions they may have for the teacher.
URL:https://icaberks.org/events-calendar/preschool-parent-orientation/
LOCATION:ICA\, 903 Chestnut St\, Douglassville\, PA\, 19518\, United States
ATTACH;FMTTYPE=image/jpeg:https://icaberks.org/wp-content/uploads/2023/05/Orientation-Preschool.jpg
END:VEVENT
BEGIN:VEVENT
DTSTART;TZID=America/New_York:20230907T183000
DTEND;TZID=America/New_York:20230907T190000
DTSTAMP:20260421T060107
CREATED:20230522T144701Z
LAST-MODIFIED:20230522T144701Z
UID:10000241-1694111400-1694113200@icaberks.org
SUMMARY:Preschool Parent Orientation
DESCRIPTION:Preschool Parent Orientation – This orientation is for adults to learn about procedures and ask any questions they may have for the teacher.
URL:https://icaberks.org/events-calendar/preschool-parent-orientation-2/
LOCATION:ICA\, 903 Chestnut St\, Douglassville\, PA\, 19518\, United States
ATTACH;FMTTYPE=image/jpeg:https://icaberks.org/wp-content/uploads/2023/05/Orientation-Preschool.jpg
END:VEVENT
BEGIN:VEVENT
DTSTART;TZID=America/New_York:20230907T190000
DTEND;TZID=America/New_York:20230907T193000
DTSTAMP:20260421T060107
CREATED:20230522T144902Z
LAST-MODIFIED:20230522T144902Z
UID:10000095-1694113200-1694115000@icaberks.org
SUMMARY:PreK Parent Orientation
DESCRIPTION:PreK Parent Orientation
URL:https://icaberks.org/events-calendar/prek-parent-orientation/
LOCATION:ICA\, 903 Chestnut St\, Douglassville\, PA\, 19518\, United States
ATTACH;FMTTYPE=image/jpeg:https://icaberks.org/wp-content/uploads/2023/05/Orientation-PreK.jpg
END:VEVENT
BEGIN:VEVENT
DTSTART;TZID=America/New_York:20230907T190000
DTEND;TZID=America/New_York:20230907T193000
DTSTAMP:20260421T060107
CREATED:20230522T144902Z
LAST-MODIFIED:20230522T144902Z
UID:10000242-1694113200-1694115000@icaberks.org
SUMMARY:PreK Parent Orientation
DESCRIPTION:PreK Parent Orientation
URL:https://icaberks.org/events-calendar/prek-parent-orientation-2/
LOCATION:ICA\, 903 Chestnut St\, Douglassville\, PA\, 19518\, United States
ATTACH;FMTTYPE=image/jpeg:https://icaberks.org/wp-content/uploads/2023/05/Orientation-PreK.jpg
END:VEVENT
END:VCALENDAR